BEGIN:VCALENDAR
VERSION:2.0
PRODID:-//Langley Alumni Association - ECPv6.15.20//NONSGML v1.0//EN
CALSCALE:GREGORIAN
METHOD:PUBLISH
X-ORIGINAL-URL:https://larcalumni.org
X-WR-CALDESC:Events for Langley Alumni Association
REFRESH-INTERVAL;VALUE=DURATION:PT1H
X-Robots-Tag:noindex
X-PUBLISHED-TTL:PT1H
BEGIN:VTIMEZONE
TZID:America/New_York
BEGIN:DAYLIGHT
TZOFFSETFROM:-0500
TZOFFSETTO:-0400
TZNAME:EDT
DTSTART:20210314T070000
END:DAYLIGHT
BEGIN:STANDARD
TZOFFSETFROM:-0400
TZOFFSETTO:-0500
TZNAME:EST
DTSTART:20211107T060000
END:STANDARD
BEGIN:DAYLIGHT
TZOFFSETFROM:-0500
TZOFFSETTO:-0400
TZNAME:EDT
DTSTART:20220313T070000
END:DAYLIGHT
BEGIN:STANDARD
TZOFFSETFROM:-0400
TZOFFSETTO:-0500
TZNAME:EST
DTSTART:20221106T060000
END:STANDARD
BEGIN:DAYLIGHT
TZOFFSETFROM:-0500
TZOFFSETTO:-0400
TZNAME:EDT
DTSTART:20230312T070000
END:DAYLIGHT
BEGIN:STANDARD
TZOFFSETFROM:-0400
TZOFFSETTO:-0500
TZNAME:EST
DTSTART:20231105T060000
END:STANDARD
END:VTIMEZONE
BEGIN:VEVENT
DTSTART;TZID=America/New_York:20220111T113000
DTEND;TZID=America/New_York:20220111T130000
DTSTAMP:20260420T104352
CREATED:20211215T171126Z
LAST-MODIFIED:20211215T171126Z
UID:3369-1641900600-1641906000@larcalumni.org
SUMMARY:Annual Meeting
DESCRIPTION:New Bylaws\, Officers\, 2022 plans
URL:https://larcalumni.org/event/annual-meeting/
LOCATION:VA
END:VEVENT
BEGIN:VEVENT
DTSTART;TZID=America/New_York:20220111T140000
DTEND;TZID=America/New_York:20220111T150000
DTSTAMP:20260420T104352
CREATED:20211227T192944Z
LAST-MODIFIED:20211227T195748Z
UID:3480-1641909600-1641913200@larcalumni.org
SUMMARY:Colloquium-PlanetX
DESCRIPTION:Join us Jan 11 @2pm NASA Colloquium & 7:30pm Sigma Talk via WebEx (click) entitled: Beyond Pluto: The Hunt for Planet X led by Dr. Scott Sheppard.
URL:https://larcalumni.org/event/colloquiumplanetx/
LOCATION:VA
END:VEVENT
BEGIN:VEVENT
DTSTART;TZID=America/New_York:20220111T193000
DTEND;TZID=America/New_York:20220111T203000
DTSTAMP:20260420T104352
CREATED:20211227T193119Z
LAST-MODIFIED:20211227T195625Z
UID:3482-1641929400-1641933000@larcalumni.org
SUMMARY:Sigma-PlanetX
DESCRIPTION:Join us Jan 11 @2 for NASA Colloquium & 7:30pm Sigma Talk via WebEx (click) entitled: Beyond Pluto: The Hunt for Planet X led by Dr. Scott Sheppard.
URL:https://larcalumni.org/event/sigma-planetx/
LOCATION:VA
END:VEVENT
END:VCALENDAR