BEGIN:VCALENDAR
VERSION:2.0
PRODID:-//Langley Alumni Association - ECPv6.15.20//NONSGML v1.0//EN
CALSCALE:GREGORIAN
METHOD:PUBLISH
X-ORIGINAL-URL:https://larcalumni.org
X-WR-CALDESC:Events for Langley Alumni Association
REFRESH-INTERVAL;VALUE=DURATION:PT1H
X-Robots-Tag:noindex
X-PUBLISHED-TTL:PT1H
BEGIN:VTIMEZONE
TZID:America/New_York
BEGIN:DAYLIGHT
TZOFFSETFROM:-0500
TZOFFSETTO:-0400
TZNAME:EDT
DTSTART:20200308T070000
END:DAYLIGHT
BEGIN:STANDARD
TZOFFSETFROM:-0400
TZOFFSETTO:-0500
TZNAME:EST
DTSTART:20201101T060000
END:STANDARD
BEGIN:DAYLIGHT
TZOFFSETFROM:-0500
TZOFFSETTO:-0400
TZNAME:EDT
DTSTART:20210314T070000
END:DAYLIGHT
BEGIN:STANDARD
TZOFFSETFROM:-0400
TZOFFSETTO:-0500
TZNAME:EST
DTSTART:20211107T060000
END:STANDARD
BEGIN:DAYLIGHT
TZOFFSETFROM:-0500
TZOFFSETTO:-0400
TZNAME:EDT
DTSTART:20220313T070000
END:DAYLIGHT
BEGIN:STANDARD
TZOFFSETFROM:-0400
TZOFFSETTO:-0500
TZNAME:EST
DTSTART:20221106T060000
END:STANDARD
END:VTIMEZONE
BEGIN:VEVENT
DTSTART;TZID=America/New_York:20211207T140000
DTEND;TZID=America/New_York:20211207T150000
DTSTAMP:20260420T121836
CREATED:20211102T174008Z
LAST-MODIFIED:20211102T174114Z
UID:3044-1638885600-1638889200@larcalumni.org
SUMMARY:7 Dec 2PM Colloquium: Mayflower
DESCRIPTION:December 7\, 2021: The Mayflower Autonomous Ship by Eric Aquaronne annd Victor Brown
URL:https://larcalumni.org/event/7-dec-2pm-colloquium-mayflower/
LOCATION:VA
END:VEVENT
BEGIN:VEVENT
DTSTART;TZID=America/New_York:20211207T193000
DTEND;TZID=America/New_York:20211207T203000
DTSTAMP:20260420T121836
CREATED:20211102T174245Z
LAST-MODIFIED:20211102T174510Z
UID:3046-1638905400-1638909000@larcalumni.org
SUMMARY:7 Dec 7:30pm Sigma: Mayflower
DESCRIPTION:December 7\, 2021: The Mayflower Autonomous Ship by Eric Aquaronne annd Victor Brown
URL:https://larcalumni.org/event/7-dec-730pm-sigma-mayflower/
LOCATION:VA
END:VEVENT
BEGIN:VEVENT
DTSTART;TZID=America/New_York:20211214T113000
DTEND;TZID=America/New_York:20211214T140000
DTSTAMP:20260420T121836
CREATED:20211127T194920Z
LAST-MODIFIED:20211127T194920Z
UID:3242-1639481400-1639490400@larcalumni.org
SUMMARY:Holiday Luncheon
DESCRIPTION:Details & Signup
URL:https://larcalumni.org/event/holiday-luncheon/
LOCATION:Old Port Cove Clubhouse\, 116 Chinquapin Orchard\, Tabb\, VA\, United States
END:VEVENT
END:VCALENDAR