BEGIN:VCALENDAR
VERSION:2.0
PRODID:-//Langley Alumni Association - ECPv6.15.20//NONSGML v1.0//EN
CALSCALE:GREGORIAN
METHOD:PUBLISH
X-ORIGINAL-URL:https://larcalumni.org
X-WR-CALDESC:Events for Langley Alumni Association
REFRESH-INTERVAL;VALUE=DURATION:PT1H
X-Robots-Tag:noindex
X-PUBLISHED-TTL:PT1H
BEGIN:VTIMEZONE
TZID:America/New_York
BEGIN:DAYLIGHT
TZOFFSETFROM:-0500
TZOFFSETTO:-0400
TZNAME:EDT
DTSTART:20200308T070000
END:DAYLIGHT
BEGIN:STANDARD
TZOFFSETFROM:-0400
TZOFFSETTO:-0500
TZNAME:EST
DTSTART:20201101T060000
END:STANDARD
BEGIN:DAYLIGHT
TZOFFSETFROM:-0500
TZOFFSETTO:-0400
TZNAME:EDT
DTSTART:20210314T070000
END:DAYLIGHT
BEGIN:STANDARD
TZOFFSETFROM:-0400
TZOFFSETTO:-0500
TZNAME:EST
DTSTART:20211107T060000
END:STANDARD
BEGIN:DAYLIGHT
TZOFFSETFROM:-0500
TZOFFSETTO:-0400
TZNAME:EDT
DTSTART:20220313T070000
END:DAYLIGHT
BEGIN:STANDARD
TZOFFSETFROM:-0400
TZOFFSETTO:-0500
TZNAME:EST
DTSTART:20221106T060000
END:STANDARD
END:VTIMEZONE
BEGIN:VEVENT
DTSTART;TZID=America/New_York:20210413T113000
DTEND;TZID=America/New_York:20210413T113000
DTSTAMP:20260420T235501
CREATED:20210331T202210Z
LAST-MODIFIED:20210331T202210Z
UID:1468-1618313400-1618313400@larcalumni.org
SUMMARY:LAA Zoom Meeting
DESCRIPTION:
URL:https://larcalumni.org/event/laa-zoom-meeting/
LOCATION:VA
END:VEVENT
BEGIN:VEVENT
DTSTART;TZID=America/New_York:20210415T143000
DTEND;TZID=America/New_York:20210415T143000
DTSTAMP:20260420T235501
CREATED:20210417T040923Z
LAST-MODIFIED:20210417T040923Z
UID:1715-1618497000-1618497000@larcalumni.org
SUMMARY:LAA Website on HDL
DESCRIPTION:
URL:https://larcalumni.org/event/laa-website-on-hdl/
LOCATION:VA
END:VEVENT
BEGIN:VEVENT
DTSTART;TZID=America/New_York:20210421T110000
DTEND;TZID=America/New_York:20210421T120000
DTSTAMP:20260420T235501
CREATED:20210421T150033Z
LAST-MODIFIED:20210418T110915Z
UID:1634-1619002800-1619006400@larcalumni.org
SUMMARY:Test NASA-LAA Webex
DESCRIPTION:
URL:https://larcalumni.org/event/test-nasa-laa-webex/
LOCATION:Webex\, VA\, United States
END:VEVENT
BEGIN:VEVENT
DTSTART;TZID=America/New_York:20210422T170000
DTEND;TZID=America/New_York:20210422T180000
DTSTAMP:20260420T235501
CREATED:20210416T183539Z
LAST-MODIFIED:20210416T183539Z
UID:1631-1619110800-1619114400@larcalumni.org
SUMMARY:Webex with ~200 LaRC retirees
DESCRIPTION:
URL:https://larcalumni.org/event/webex-with-200-larc-retirees/
LOCATION:Webex w NASA LaRC
END:VEVENT
END:VCALENDAR