BEGIN:VCALENDAR
VERSION:2.0
PRODID:-//Langley Alumni Association - ECPv6.15.20//NONSGML v1.0//EN
CALSCALE:GREGORIAN
METHOD:PUBLISH
X-ORIGINAL-URL:https://larcalumni.org
X-WR-CALDESC:Events for Langley Alumni Association
REFRESH-INTERVAL;VALUE=DURATION:PT1H
X-Robots-Tag:noindex
X-PUBLISHED-TTL:PT1H
BEGIN:VTIMEZONE
TZID:UTC
BEGIN:STANDARD
TZOFFSETFROM:+0000
TZOFFSETTO:+0000
TZNAME:UTC
DTSTART:20180101T000000
END:STANDARD
END:VTIMEZONE
BEGIN:VEVENT
DTSTART;TZID=UTC:20191210T120000
DTEND;TZID=UTC:20191212T140000
DTSTAMP:20260421T231340
CREATED:20170814T191110Z
LAST-MODIFIED:20191104T083402Z
UID:391-1575979200-1576159200@larcalumni.org
SUMMARY:LAA Holiday Luncheon
DESCRIPTION:LAA Holiday Luncheon Tuesday\, December 10\, 2019 \n12:00 Noon\, Angelos Steak and Pancake House\, 755 J. Clyde Morris Blvd.\, Newport News\, VA 23601
URL:https://larcalumni.org/event/laa-winter-luncheon/
LOCATION:VA
END:VEVENT
END:VCALENDAR