BEGIN:VCALENDAR
VERSION:2.0
PRODID:-//Langley Alumni Association - ECPv6.15.20//NONSGML v1.0//EN
CALSCALE:GREGORIAN
METHOD:PUBLISH
X-ORIGINAL-URL:https://larcalumni.org
X-WR-CALDESC:Events for Langley Alumni Association
REFRESH-INTERVAL;VALUE=DURATION:PT1H
X-Robots-Tag:noindex
X-PUBLISHED-TTL:PT1H
BEGIN:VTIMEZONE
TZID:UTC
BEGIN:STANDARD
TZOFFSETFROM:+0000
TZOFFSETTO:+0000
TZNAME:UTC
DTSTART:20180101T000000
END:STANDARD
END:VTIMEZONE
BEGIN:VEVENT
DTSTART;TZID=UTC:20190709T163000
DTEND;TZID=UTC:20190709T193000
DTSTAMP:20260422T060844
CREATED:20190619T223656Z
LAST-MODIFIED:20190619T223656Z
UID:895-1562689800-1562700600@larcalumni.org
SUMMARY:Langley Alumni Association Picnic
DESCRIPTION:The Annual LAA Picnic will be held on the patio adjoining the Cafeteria dining area at Building 2102\, 10 West Taylor Street\, LaRC. RSVP by Monday July 1 to both Melanie Robinson (melanie.l.robinson@nasa.gov) and Roger Ferguson (rgferg@hotmail.com).
URL:https://larcalumni.org/event/langley-alumni-association-picnic/
LOCATION:VA
END:VEVENT
BEGIN:VEVENT
DTSTART;TZID=UTC:20190718T150000
DTEND;TZID=UTC:20190718T170000
DTSTAMP:20260422T060844
CREATED:20190713T064606Z
LAST-MODIFIED:20190713T064606Z
UID:906-1563462000-1563469200@larcalumni.org
SUMMARY:Celebration of Apollo's 50th Anniversary
DESCRIPTION:Plan to join us on Thursday\, July 18 at 3 p.m. as we come together in celebration of Apollo’s 50thAnniversary. 
URL:https://larcalumni.org/event/celebration-of-apollos-50th-anniversary/
LOCATION:VA
END:VEVENT
END:VCALENDAR