BEGIN:VCALENDAR
VERSION:2.0
PRODID:-//Langley Alumni Association - ECPv6.15.20//NONSGML v1.0//EN
CALSCALE:GREGORIAN
METHOD:PUBLISH
X-ORIGINAL-URL:https://larcalumni.org
X-WR-CALDESC:Events for Langley Alumni Association
REFRESH-INTERVAL;VALUE=DURATION:PT1H
X-Robots-Tag:noindex
X-PUBLISHED-TTL:PT1H
BEGIN:VTIMEZONE
TZID:America/New_York
BEGIN:DAYLIGHT
TZOFFSETFROM:-0500
TZOFFSETTO:-0400
TZNAME:EDT
DTSTART:20250309T070000
END:DAYLIGHT
BEGIN:STANDARD
TZOFFSETFROM:-0400
TZOFFSETTO:-0500
TZNAME:EST
DTSTART:20251102T060000
END:STANDARD
BEGIN:DAYLIGHT
TZOFFSETFROM:-0500
TZOFFSETTO:-0400
TZNAME:EDT
DTSTART:20260308T070000
END:DAYLIGHT
BEGIN:STANDARD
TZOFFSETFROM:-0400
TZOFFSETTO:-0500
TZNAME:EST
DTSTART:20261101T060000
END:STANDARD
BEGIN:DAYLIGHT
TZOFFSETFROM:-0500
TZOFFSETTO:-0400
TZNAME:EDT
DTSTART:20270314T070000
END:DAYLIGHT
BEGIN:STANDARD
TZOFFSETFROM:-0400
TZOFFSETTO:-0500
TZNAME:EST
DTSTART:20271107T060000
END:STANDARD
END:VTIMEZONE
BEGIN:VEVENT
DTSTART;TZID=America/New_York:20260718T100000
DTEND;TZID=America/New_York:20260718T160000
DTSTAMP:20260424T092120
CREATED:20260424T132100Z
LAST-MODIFIED:20260424T132100Z
UID:10984-1784368800-1784390400@larcalumni.org
SUMMARY:The Viking Mars Missions Education & Preservation Project
DESCRIPTION:Come join Virginia Air & Space Science Center\, American Institute of Astronautics & Aeronautics (AIAA)\, and The Viking Mars Missions Education & Preservation Project (VMMEPP) on July 18\, 2026. \nCelebrating NASA Langley Research Center’s Viking mission\, a milestone in 250 years of American Mars exploration achievements. Hosted by Virginia Air & Space Science Center. \n\n\nVisitors will enjoy meeting and attending talks with past and current Space Exploration Leaders and real Viking Mission Team Members who served on the first mission to Mars’ surface in 1976. Government and industry experts will share exciting work on future missions and students from institutions around the country will also share their research and experience interning at NASAs leading research facilities. \nEvents will begin at 10am and continue until closing at 4pm \nPLEASE LIKE\, SHARE\, AND POST ON YOUR OTHER PLATFORMS! \nhttps://www.instagram.com/p/DXUhAcilL36 \nhttps://www.facebook.com/vaairandspacecenter \nhttps://www.facebook.com/share/1DwNhPeh8U
URL:https://larcalumni.org/event/the-viking-mars-missions-education-preservation-project/
LOCATION:Virginia Air & Space Center\, 600 Settlers Landing Road\, Hampton\, VA\, 23669\, United States
END:VEVENT
BEGIN:VEVENT
DTSTART;TZID=America/New_York:20260811T113000
DTEND;TZID=America/New_York:20260811T140000
DTSTAMP:20260424T092120
CREATED:20260115T214703Z
LAST-MODIFIED:20260115T214703Z
UID:10654-1786447800-1786456800@larcalumni.org
SUMMARY:LAA Membership and Board Meetings
DESCRIPTION:
URL:https://larcalumni.org/event/laa-membership-and-board-meetings-14/
LOCATION:LaRC NACA Room\, NASA Langley Research Center\, Hampton\, VA\, 236681
END:VEVENT
BEGIN:VEVENT
DTSTART;TZID=America/New_York:20260908T113000
DTEND;TZID=America/New_York:20260908T140000
DTSTAMP:20260424T092120
CREATED:20260115T214812Z
LAST-MODIFIED:20260115T214812Z
UID:10656-1788867000-1788876000@larcalumni.org
SUMMARY:LAA Membership and Board Meetings
DESCRIPTION:
URL:https://larcalumni.org/event/laa-membership-and-board-meetings-15/
LOCATION:LaRC NACA Room\, NASA Langley Research Center\, Hampton\, VA\, 236681
END:VEVENT
END:VCALENDAR