BEGIN:VCALENDAR
VERSION:2.0
PRODID:-//Langley Alumni Association - ECPv6.15.20//NONSGML v1.0//EN
CALSCALE:GREGORIAN
METHOD:PUBLISH
X-ORIGINAL-URL:https://larcalumni.org
X-WR-CALDESC:Events for Langley Alumni Association
REFRESH-INTERVAL;VALUE=DURATION:PT1H
X-Robots-Tag:noindex
X-PUBLISHED-TTL:PT1H
BEGIN:VTIMEZONE
TZID:America/New_York
BEGIN:DAYLIGHT
TZOFFSETFROM:-0500
TZOFFSETTO:-0400
TZNAME:EDT
DTSTART:20250309T070000
END:DAYLIGHT
BEGIN:STANDARD
TZOFFSETFROM:-0400
TZOFFSETTO:-0500
TZNAME:EST
DTSTART:20251102T060000
END:STANDARD
BEGIN:DAYLIGHT
TZOFFSETFROM:-0500
TZOFFSETTO:-0400
TZNAME:EDT
DTSTART:20260308T070000
END:DAYLIGHT
BEGIN:STANDARD
TZOFFSETFROM:-0400
TZOFFSETTO:-0500
TZNAME:EST
DTSTART:20261101T060000
END:STANDARD
BEGIN:DAYLIGHT
TZOFFSETFROM:-0500
TZOFFSETTO:-0400
TZNAME:EDT
DTSTART:20270314T070000
END:DAYLIGHT
BEGIN:STANDARD
TZOFFSETFROM:-0400
TZOFFSETTO:-0500
TZNAME:EST
DTSTART:20271107T060000
END:STANDARD
END:VTIMEZONE
BEGIN:VEVENT
DTSTART;TZID=America/New_York:20260512T113000
DTEND;TZID=America/New_York:20260512T140000
DTSTAMP:20260420T031850
CREATED:20260115T214415Z
LAST-MODIFIED:20260318T132050Z
UID:10650-1778585400-1778594400@larcalumni.org
SUMMARY:LAA Membership and Board Meetings
DESCRIPTION:Please join us on May 12\, 2026\, for our monthly LAA General Membership and Board Meetings. We are honored to welcome Ms. Lori Ozoroski\, Deputy Project Manager for Civil Supersonics\, High-Speed Flight Project\, NASA Langley Research Center\, who will provide a Project Update:  QUESST X-59 Soars: A New Era in Supersonic Flight Begins presentation.
URL:https://larcalumni.org/event/laa-membership-and-board-meetings-12/
LOCATION:LaRC NACA Room\, NASA Langley Research Center\, Hampton\, VA\, 236681
END:VEVENT
END:VCALENDAR