BEGIN:VCALENDAR
VERSION:2.0
PRODID:-//Langley Alumni Association - ECPv6.15.20//NONSGML v1.0//EN
CALSCALE:GREGORIAN
METHOD:PUBLISH
X-WR-CALNAME:Langley Alumni Association
X-ORIGINAL-URL:https://larcalumni.org
X-WR-CALDESC:Events for Langley Alumni Association
REFRESH-INTERVAL;VALUE=DURATION:PT1H
X-Robots-Tag:noindex
X-PUBLISHED-TTL:PT1H
BEGIN:VTIMEZONE
TZID:America/New_York
BEGIN:DAYLIGHT
TZOFFSETFROM:-0500
TZOFFSETTO:-0400
TZNAME:EDT
DTSTART:20210314T070000
END:DAYLIGHT
BEGIN:STANDARD
TZOFFSETFROM:-0400
TZOFFSETTO:-0500
TZNAME:EST
DTSTART:20211107T060000
END:STANDARD
BEGIN:DAYLIGHT
TZOFFSETFROM:-0500
TZOFFSETTO:-0400
TZNAME:EDT
DTSTART:20220313T070000
END:DAYLIGHT
BEGIN:STANDARD
TZOFFSETFROM:-0400
TZOFFSETTO:-0500
TZNAME:EST
DTSTART:20221106T060000
END:STANDARD
BEGIN:DAYLIGHT
TZOFFSETFROM:-0500
TZOFFSETTO:-0400
TZNAME:EDT
DTSTART:20230312T070000
END:DAYLIGHT
BEGIN:STANDARD
TZOFFSETFROM:-0400
TZOFFSETTO:-0500
TZNAME:EST
DTSTART:20231105T060000
END:STANDARD
END:VTIMEZONE
BEGIN:VEVENT
DTSTART;TZID=America/New_York:20220301T140000
DTEND;TZID=America/New_York:20220301T150000
DTSTAMP:20260420T092158
CREATED:20220301T051118Z
LAST-MODIFIED:20220301T051118Z
UID:4238-1646143200-1646146800@larcalumni.org
SUMMARY:Colloquium:  "Working at Home" by Prof Bloom
DESCRIPTION:The Future of Working from Home: What That Means for Jobs and Real Estate  by Professor Nick Bloom \nIf you miss this\, it will be repeated as a Sigma Talk at 7:30pm
URL:https://larcalumni.org/event/colloquium-working-at-home-by-prof-bloom/
LOCATION:Webex w NASA LaRC
END:VEVENT
BEGIN:VEVENT
DTSTART;TZID=America/New_York:20220301T193000
DTEND;TZID=America/New_York:20220301T203000
DTSTAMP:20260420T092158
CREATED:20220301T051705Z
LAST-MODIFIED:20220301T051705Z
UID:4240-1646163000-1646166600@larcalumni.org
SUMMARY:Sigma: Working at Home by Prof.  Bloom
DESCRIPTION:Join us on Tuesday\, March 1 for the Sigma Talk virtual talk: The Future of Working from Home: What That Means for Jobs and Real Estate  by Professor Nick Bloom. \nClick Webex:
URL:https://larcalumni.org/event/sigma-working-at-home-by-prof-bloom/
LOCATION:VA
END:VEVENT
END:VCALENDAR