BEGIN:VCALENDAR
VERSION:2.0
PRODID:-//Langley Alumni Association - ECPv6.15.20//NONSGML v1.0//EN
CALSCALE:GREGORIAN
METHOD:PUBLISH
X-ORIGINAL-URL:https://larcalumni.org
X-WR-CALDESC:Events for Langley Alumni Association
REFRESH-INTERVAL;VALUE=DURATION:PT1H
X-Robots-Tag:noindex
X-PUBLISHED-TTL:PT1H
BEGIN:VTIMEZONE
TZID:America/New_York
BEGIN:DAYLIGHT
TZOFFSETFROM:-0500
TZOFFSETTO:-0400
TZNAME:EDT
DTSTART:20200308T070000
END:DAYLIGHT
BEGIN:STANDARD
TZOFFSETFROM:-0400
TZOFFSETTO:-0500
TZNAME:EST
DTSTART:20201101T060000
END:STANDARD
BEGIN:DAYLIGHT
TZOFFSETFROM:-0500
TZOFFSETTO:-0400
TZNAME:EDT
DTSTART:20210314T070000
END:DAYLIGHT
BEGIN:STANDARD
TZOFFSETFROM:-0400
TZOFFSETTO:-0500
TZNAME:EST
DTSTART:20211107T060000
END:STANDARD
BEGIN:DAYLIGHT
TZOFFSETFROM:-0500
TZOFFSETTO:-0400
TZNAME:EDT
DTSTART:20220313T070000
END:DAYLIGHT
BEGIN:STANDARD
TZOFFSETFROM:-0400
TZOFFSETTO:-0500
TZNAME:EST
DTSTART:20221106T060000
END:STANDARD
END:VTIMEZONE
BEGIN:VEVENT
DTSTART;TZID=America/New_York:20210713T113000
DTEND;TZID=America/New_York:20210713T130000
DTSTAMP:20260420T210848
CREATED:20210611T012354Z
LAST-MODIFIED:20210611T012354Z
UID:2342-1626175800-1626181200@larcalumni.org
SUMMARY:Life After Langley-World Travels
DESCRIPTION:by Geoff Tennille
URL:https://larcalumni.org/event/life-after-langley-world-travels/
LOCATION:VA
END:VEVENT
BEGIN:VEVENT
DTSTART;TZID=America/New_York:20210713T140000
DTEND;TZID=America/New_York:20210713T150000
DTSTAMP:20260420T210848
CREATED:20210703T035327Z
LAST-MODIFIED:20210703T035327Z
UID:2450-1626184800-1626188400@larcalumni.org
SUMMARY:LaRC Colloquium
DESCRIPTION:
URL:https://larcalumni.org/event/larc-colloquium-2/
LOCATION:VA
END:VEVENT
BEGIN:VEVENT
DTSTART;TZID=America/New_York:20210713T193000
DTEND;TZID=America/New_York:20210713T210000
DTSTAMP:20260420T210848
CREATED:20210703T035742Z
LAST-MODIFIED:20210703T035742Z
UID:2452-1626204600-1626210000@larcalumni.org
SUMMARY:Sigma Lecture
DESCRIPTION:
URL:https://larcalumni.org/event/sigma-lecture/
LOCATION:VA
END:VEVENT
END:VCALENDAR