BEGIN:VCALENDAR
VERSION:2.0
PRODID:-//Langley Alumni Association - ECPv6.15.20//NONSGML v1.0//EN
CALSCALE:GREGORIAN
METHOD:PUBLISH
X-WR-CALNAME:Langley Alumni Association
X-ORIGINAL-URL:https://larcalumni.org
X-WR-CALDESC:Events for Langley Alumni Association
REFRESH-INTERVAL;VALUE=DURATION:PT1H
X-Robots-Tag:noindex
X-PUBLISHED-TTL:PT1H
BEGIN:VTIMEZONE
TZID:UTC
BEGIN:STANDARD
TZOFFSETFROM:+0000
TZOFFSETTO:+0000
TZNAME:UTC
DTSTART:20200101T000000
END:STANDARD
END:VTIMEZONE
BEGIN:VEVENT
DTSTART;TZID=UTC:20210309T113000
DTEND;TZID=UTC:20210309T130000
DTSTAMP:20260421T024323
CREATED:20190818T012110Z
LAST-MODIFIED:20210213T142320Z
UID:938-1615289400-1615294800@larcalumni.org
SUMMARY:Langley Alumni Association Meeting
DESCRIPTION:This is a Zoom Meeting and the invitation will be extended by President Damodar Ambur.
URL:https://larcalumni.org/event/langley-alumni-association-meeting/
LOCATION:Zoom Meeting
END:VEVENT
END:VCALENDAR