BEGIN:VCALENDAR
VERSION:2.0
PRODID:-//Langley Alumni Association - ECPv6.15.20//NONSGML v1.0//EN
CALSCALE:GREGORIAN
METHOD:PUBLISH
X-ORIGINAL-URL:https://larcalumni.org
X-WR-CALDESC:Events for Langley Alumni Association
REFRESH-INTERVAL;VALUE=DURATION:PT1H
X-Robots-Tag:noindex
X-PUBLISHED-TTL:PT1H
BEGIN:VTIMEZONE
TZID:UTC
BEGIN:STANDARD
TZOFFSETFROM:+0000
TZOFFSETTO:+0000
TZNAME:UTC
DTSTART:20180101T000000
END:STANDARD
END:VTIMEZONE
BEGIN:VEVENT
DTSTART;TZID=UTC:20190814T113000
DTEND;TZID=UTC:20190814T133000
DTSTAMP:20260422T061728
CREATED:20190303T214110Z
LAST-MODIFIED:20190713T064931Z
UID:817-1565782200-1565789400@larcalumni.org
SUMMARY:LAA Membership and Board Meetings
DESCRIPTION:
URL:https://larcalumni.org/event/laa-membership-and-board-meetings/
LOCATION:NASA Langley Research Center\, 2 Langley Blvd\, Hampton\, VA\, United States
END:VEVENT
END:VCALENDAR